BEGIN:VCALENDAR
VERSION:2.0
PRODID:-//City of Green Isle - ECPv6.15.20//NONSGML v1.0//EN
CALSCALE:GREGORIAN
METHOD:PUBLISH
X-WR-CALNAME:City of Green Isle
X-ORIGINAL-URL:https://greenislemn.gov
X-WR-CALDESC:Events for City of Green Isle
REFRESH-INTERVAL;VALUE=DURATION:PT1H
X-Robots-Tag:noindex
X-PUBLISHED-TTL:PT1H
BEGIN:VTIMEZONE
TZID:America/Chicago
BEGIN:DAYLIGHT
TZOFFSETFROM:-0600
TZOFFSETTO:-0500
TZNAME:CDT
DTSTART:20250309T080000
END:DAYLIGHT
BEGIN:STANDARD
TZOFFSETFROM:-0500
TZOFFSETTO:-0600
TZNAME:CST
DTSTART:20251102T070000
END:STANDARD
BEGIN:DAYLIGHT
TZOFFSETFROM:-0600
TZOFFSETTO:-0500
TZNAME:CDT
DTSTART:20260308T080000
END:DAYLIGHT
BEGIN:STANDARD
TZOFFSETFROM:-0500
TZOFFSETTO:-0600
TZNAME:CST
DTSTART:20261101T070000
END:STANDARD
BEGIN:DAYLIGHT
TZOFFSETFROM:-0600
TZOFFSETTO:-0500
TZNAME:CDT
DTSTART:20270314T080000
END:DAYLIGHT
BEGIN:STANDARD
TZOFFSETFROM:-0500
TZOFFSETTO:-0600
TZNAME:CST
DTSTART:20271107T070000
END:STANDARD
END:VTIMEZONE
BEGIN:VEVENT
DTSTART;TZID=America/Chicago:20260426T090000
DTEND;TZID=America/Chicago:20260426T100000
DTSTAMP:20260422T094929
CREATED:20220831T162622Z
LAST-MODIFIED:20221010T192506Z
UID:10001326-1777194000-1777197600@greenislemn.gov
SUMMARY:Lutheran Church Service
DESCRIPTION:St. Paul’s is a rural small-town church faithfully proclaiming the good news of Jesus Christ in Word and Sacrament\, prayer and fellowship\, education and outreach. \nDivine Service\n\nSunday mornings at 9:00 AM
URL:https://greenislemn.gov/event/lutheran-church-service/2026-04-26/
LOCATION:St. Paul’s Lutheran Church\, 240 Cleveland Ave.\, Green Isle\, MN\, 55338\, United States
CATEGORIES:Community Events
ATTACH;FMTTYPE=image/jpeg:https://greenislemn.gov/wp-content/uploads/2022/08/2016_4212-WEc920c77737.jpg
END:VEVENT
BEGIN:VEVENT
DTSTART;TZID=America/Chicago:20260503T090000
DTEND;TZID=America/Chicago:20260503T100000
DTSTAMP:20260422T094929
CREATED:20220831T162622Z
LAST-MODIFIED:20221010T192506Z
UID:10001327-1777798800-1777802400@greenislemn.gov
SUMMARY:Lutheran Church Service
DESCRIPTION:St. Paul’s is a rural small-town church faithfully proclaiming the good news of Jesus Christ in Word and Sacrament\, prayer and fellowship\, education and outreach. \nDivine Service\n\nSunday mornings at 9:00 AM
URL:https://greenislemn.gov/event/lutheran-church-service/2026-05-03/
LOCATION:St. Paul’s Lutheran Church\, 240 Cleveland Ave.\, Green Isle\, MN\, 55338\, United States
CATEGORIES:Community Events
ATTACH;FMTTYPE=image/jpeg:https://greenislemn.gov/wp-content/uploads/2022/08/2016_4212-WEc920c77737.jpg
END:VEVENT
BEGIN:VEVENT
DTSTART;TZID=America/Chicago:20260510T090000
DTEND;TZID=America/Chicago:20260510T100000
DTSTAMP:20260422T094929
CREATED:20220831T162622Z
LAST-MODIFIED:20221010T192506Z
UID:10001328-1778403600-1778407200@greenislemn.gov
SUMMARY:Lutheran Church Service
DESCRIPTION:St. Paul’s is a rural small-town church faithfully proclaiming the good news of Jesus Christ in Word and Sacrament\, prayer and fellowship\, education and outreach. \nDivine Service\n\nSunday mornings at 9:00 AM
URL:https://greenislemn.gov/event/lutheran-church-service/2026-05-10/
LOCATION:St. Paul’s Lutheran Church\, 240 Cleveland Ave.\, Green Isle\, MN\, 55338\, United States
CATEGORIES:Community Events
ATTACH;FMTTYPE=image/jpeg:https://greenislemn.gov/wp-content/uploads/2022/08/2016_4212-WEc920c77737.jpg
END:VEVENT
BEGIN:VEVENT
DTSTART;TZID=America/Chicago:20260517T090000
DTEND;TZID=America/Chicago:20260517T100000
DTSTAMP:20260422T094929
CREATED:20220831T162622Z
LAST-MODIFIED:20221010T192506Z
UID:10001329-1779008400-1779012000@greenislemn.gov
SUMMARY:Lutheran Church Service
DESCRIPTION:St. Paul’s is a rural small-town church faithfully proclaiming the good news of Jesus Christ in Word and Sacrament\, prayer and fellowship\, education and outreach. \nDivine Service\n\nSunday mornings at 9:00 AM
URL:https://greenislemn.gov/event/lutheran-church-service/2026-05-17/
LOCATION:St. Paul’s Lutheran Church\, 240 Cleveland Ave.\, Green Isle\, MN\, 55338\, United States
CATEGORIES:Community Events
ATTACH;FMTTYPE=image/jpeg:https://greenislemn.gov/wp-content/uploads/2022/08/2016_4212-WEc920c77737.jpg
END:VEVENT
BEGIN:VEVENT
DTSTART;TZID=America/Chicago:20260524T090000
DTEND;TZID=America/Chicago:20260524T100000
DTSTAMP:20260422T094929
CREATED:20220831T162622Z
LAST-MODIFIED:20221010T192506Z
UID:10001330-1779613200-1779616800@greenislemn.gov
SUMMARY:Lutheran Church Service
DESCRIPTION:St. Paul’s is a rural small-town church faithfully proclaiming the good news of Jesus Christ in Word and Sacrament\, prayer and fellowship\, education and outreach. \nDivine Service\n\nSunday mornings at 9:00 AM
URL:https://greenislemn.gov/event/lutheran-church-service/2026-05-24/
LOCATION:St. Paul’s Lutheran Church\, 240 Cleveland Ave.\, Green Isle\, MN\, 55338\, United States
CATEGORIES:Community Events
ATTACH;FMTTYPE=image/jpeg:https://greenislemn.gov/wp-content/uploads/2022/08/2016_4212-WEc920c77737.jpg
END:VEVENT
BEGIN:VEVENT
DTSTART;TZID=America/Chicago:20260531T090000
DTEND;TZID=America/Chicago:20260531T100000
DTSTAMP:20260422T094929
CREATED:20220831T162622Z
LAST-MODIFIED:20221010T192506Z
UID:10001331-1780218000-1780221600@greenislemn.gov
SUMMARY:Lutheran Church Service
DESCRIPTION:St. Paul’s is a rural small-town church faithfully proclaiming the good news of Jesus Christ in Word and Sacrament\, prayer and fellowship\, education and outreach. \nDivine Service\n\nSunday mornings at 9:00 AM
URL:https://greenislemn.gov/event/lutheran-church-service/2026-05-31/
LOCATION:St. Paul’s Lutheran Church\, 240 Cleveland Ave.\, Green Isle\, MN\, 55338\, United States
CATEGORIES:Community Events
ATTACH;FMTTYPE=image/jpeg:https://greenislemn.gov/wp-content/uploads/2022/08/2016_4212-WEc920c77737.jpg
END:VEVENT
BEGIN:VEVENT
DTSTART;TZID=America/Chicago:20260607T090000
DTEND;TZID=America/Chicago:20260607T100000
DTSTAMP:20260422T094929
CREATED:20220831T162622Z
LAST-MODIFIED:20221010T192506Z
UID:10001332-1780822800-1780826400@greenislemn.gov
SUMMARY:Lutheran Church Service
DESCRIPTION:St. Paul’s is a rural small-town church faithfully proclaiming the good news of Jesus Christ in Word and Sacrament\, prayer and fellowship\, education and outreach. \nDivine Service\n\nSunday mornings at 9:00 AM
URL:https://greenislemn.gov/event/lutheran-church-service/2026-06-07/
LOCATION:St. Paul’s Lutheran Church\, 240 Cleveland Ave.\, Green Isle\, MN\, 55338\, United States
CATEGORIES:Community Events
ATTACH;FMTTYPE=image/jpeg:https://greenislemn.gov/wp-content/uploads/2022/08/2016_4212-WEc920c77737.jpg
END:VEVENT
BEGIN:VEVENT
DTSTART;TZID=America/Chicago:20260614T090000
DTEND;TZID=America/Chicago:20260614T100000
DTSTAMP:20260422T094929
CREATED:20220831T162622Z
LAST-MODIFIED:20221010T192506Z
UID:10001333-1781427600-1781431200@greenislemn.gov
SUMMARY:Lutheran Church Service
DESCRIPTION:St. Paul’s is a rural small-town church faithfully proclaiming the good news of Jesus Christ in Word and Sacrament\, prayer and fellowship\, education and outreach. \nDivine Service\n\nSunday mornings at 9:00 AM
URL:https://greenislemn.gov/event/lutheran-church-service/2026-06-14/
LOCATION:St. Paul’s Lutheran Church\, 240 Cleveland Ave.\, Green Isle\, MN\, 55338\, United States
CATEGORIES:Community Events
ATTACH;FMTTYPE=image/jpeg:https://greenislemn.gov/wp-content/uploads/2022/08/2016_4212-WEc920c77737.jpg
END:VEVENT
BEGIN:VEVENT
DTSTART;TZID=America/Chicago:20260621T090000
DTEND;TZID=America/Chicago:20260621T100000
DTSTAMP:20260422T094929
CREATED:20220831T162622Z
LAST-MODIFIED:20221010T192506Z
UID:10001334-1782032400-1782036000@greenislemn.gov
SUMMARY:Lutheran Church Service
DESCRIPTION:St. Paul’s is a rural small-town church faithfully proclaiming the good news of Jesus Christ in Word and Sacrament\, prayer and fellowship\, education and outreach. \nDivine Service\n\nSunday mornings at 9:00 AM
URL:https://greenislemn.gov/event/lutheran-church-service/2026-06-21/
LOCATION:St. Paul’s Lutheran Church\, 240 Cleveland Ave.\, Green Isle\, MN\, 55338\, United States
CATEGORIES:Community Events
ATTACH;FMTTYPE=image/jpeg:https://greenislemn.gov/wp-content/uploads/2022/08/2016_4212-WEc920c77737.jpg
END:VEVENT
BEGIN:VEVENT
DTSTART;TZID=America/Chicago:20260628T090000
DTEND;TZID=America/Chicago:20260628T100000
DTSTAMP:20260422T094929
CREATED:20220831T162622Z
LAST-MODIFIED:20221010T192506Z
UID:10001335-1782637200-1782640800@greenislemn.gov
SUMMARY:Lutheran Church Service
DESCRIPTION:St. Paul’s is a rural small-town church faithfully proclaiming the good news of Jesus Christ in Word and Sacrament\, prayer and fellowship\, education and outreach. \nDivine Service\n\nSunday mornings at 9:00 AM
URL:https://greenislemn.gov/event/lutheran-church-service/2026-06-28/
LOCATION:St. Paul’s Lutheran Church\, 240 Cleveland Ave.\, Green Isle\, MN\, 55338\, United States
CATEGORIES:Community Events
ATTACH;FMTTYPE=image/jpeg:https://greenislemn.gov/wp-content/uploads/2022/08/2016_4212-WEc920c77737.jpg
END:VEVENT
BEGIN:VEVENT
DTSTART;TZID=America/Chicago:20260705T090000
DTEND;TZID=America/Chicago:20260705T100000
DTSTAMP:20260422T094929
CREATED:20220831T162622Z
LAST-MODIFIED:20221010T192506Z
UID:10001336-1783242000-1783245600@greenislemn.gov
SUMMARY:Lutheran Church Service
DESCRIPTION:St. Paul’s is a rural small-town church faithfully proclaiming the good news of Jesus Christ in Word and Sacrament\, prayer and fellowship\, education and outreach. \nDivine Service\n\nSunday mornings at 9:00 AM
URL:https://greenislemn.gov/event/lutheran-church-service/2026-07-05/
LOCATION:St. Paul’s Lutheran Church\, 240 Cleveland Ave.\, Green Isle\, MN\, 55338\, United States
CATEGORIES:Community Events
ATTACH;FMTTYPE=image/jpeg:https://greenislemn.gov/wp-content/uploads/2022/08/2016_4212-WEc920c77737.jpg
END:VEVENT
BEGIN:VEVENT
DTSTART;TZID=America/Chicago:20260712T090000
DTEND;TZID=America/Chicago:20260712T100000
DTSTAMP:20260422T094929
CREATED:20220831T162622Z
LAST-MODIFIED:20221010T192506Z
UID:10001337-1783846800-1783850400@greenislemn.gov
SUMMARY:Lutheran Church Service
DESCRIPTION:St. Paul’s is a rural small-town church faithfully proclaiming the good news of Jesus Christ in Word and Sacrament\, prayer and fellowship\, education and outreach. \nDivine Service\n\nSunday mornings at 9:00 AM
URL:https://greenislemn.gov/event/lutheran-church-service/2026-07-12/
LOCATION:St. Paul’s Lutheran Church\, 240 Cleveland Ave.\, Green Isle\, MN\, 55338\, United States
CATEGORIES:Community Events
ATTACH;FMTTYPE=image/jpeg:https://greenislemn.gov/wp-content/uploads/2022/08/2016_4212-WEc920c77737.jpg
END:VEVENT
BEGIN:VEVENT
DTSTART;TZID=America/Chicago:20260719T090000
DTEND;TZID=America/Chicago:20260719T100000
DTSTAMP:20260422T094929
CREATED:20220831T162622Z
LAST-MODIFIED:20221010T192506Z
UID:10001338-1784451600-1784455200@greenislemn.gov
SUMMARY:Lutheran Church Service
DESCRIPTION:St. Paul’s is a rural small-town church faithfully proclaiming the good news of Jesus Christ in Word and Sacrament\, prayer and fellowship\, education and outreach. \nDivine Service\n\nSunday mornings at 9:00 AM
URL:https://greenislemn.gov/event/lutheran-church-service/2026-07-19/
LOCATION:St. Paul’s Lutheran Church\, 240 Cleveland Ave.\, Green Isle\, MN\, 55338\, United States
CATEGORIES:Community Events
ATTACH;FMTTYPE=image/jpeg:https://greenislemn.gov/wp-content/uploads/2022/08/2016_4212-WEc920c77737.jpg
END:VEVENT
BEGIN:VEVENT
DTSTART;TZID=America/Chicago:20260726T090000
DTEND;TZID=America/Chicago:20260726T100000
DTSTAMP:20260422T094929
CREATED:20220831T162622Z
LAST-MODIFIED:20221010T192506Z
UID:10001339-1785056400-1785060000@greenislemn.gov
SUMMARY:Lutheran Church Service
DESCRIPTION:St. Paul’s is a rural small-town church faithfully proclaiming the good news of Jesus Christ in Word and Sacrament\, prayer and fellowship\, education and outreach. \nDivine Service\n\nSunday mornings at 9:00 AM
URL:https://greenislemn.gov/event/lutheran-church-service/2026-07-26/
LOCATION:St. Paul’s Lutheran Church\, 240 Cleveland Ave.\, Green Isle\, MN\, 55338\, United States
CATEGORIES:Community Events
ATTACH;FMTTYPE=image/jpeg:https://greenislemn.gov/wp-content/uploads/2022/08/2016_4212-WEc920c77737.jpg
END:VEVENT
BEGIN:VEVENT
DTSTART;TZID=America/Chicago:20260802T090000
DTEND;TZID=America/Chicago:20260802T100000
DTSTAMP:20260422T094929
CREATED:20220831T162622Z
LAST-MODIFIED:20221010T192506Z
UID:10001340-1785661200-1785664800@greenislemn.gov
SUMMARY:Lutheran Church Service
DESCRIPTION:St. Paul’s is a rural small-town church faithfully proclaiming the good news of Jesus Christ in Word and Sacrament\, prayer and fellowship\, education and outreach. \nDivine Service\n\nSunday mornings at 9:00 AM
URL:https://greenislemn.gov/event/lutheran-church-service/2026-08-02/
LOCATION:St. Paul’s Lutheran Church\, 240 Cleveland Ave.\, Green Isle\, MN\, 55338\, United States
CATEGORIES:Community Events
ATTACH;FMTTYPE=image/jpeg:https://greenislemn.gov/wp-content/uploads/2022/08/2016_4212-WEc920c77737.jpg
END:VEVENT
BEGIN:VEVENT
DTSTART;TZID=America/Chicago:20260809T090000
DTEND;TZID=America/Chicago:20260809T100000
DTSTAMP:20260422T094929
CREATED:20220831T162622Z
LAST-MODIFIED:20221010T192506Z
UID:10001341-1786266000-1786269600@greenislemn.gov
SUMMARY:Lutheran Church Service
DESCRIPTION:St. Paul’s is a rural small-town church faithfully proclaiming the good news of Jesus Christ in Word and Sacrament\, prayer and fellowship\, education and outreach. \nDivine Service\n\nSunday mornings at 9:00 AM
URL:https://greenislemn.gov/event/lutheran-church-service/2026-08-09/
LOCATION:St. Paul’s Lutheran Church\, 240 Cleveland Ave.\, Green Isle\, MN\, 55338\, United States
CATEGORIES:Community Events
ATTACH;FMTTYPE=image/jpeg:https://greenislemn.gov/wp-content/uploads/2022/08/2016_4212-WEc920c77737.jpg
END:VEVENT
BEGIN:VEVENT
DTSTART;TZID=America/Chicago:20260816T090000
DTEND;TZID=America/Chicago:20260816T100000
DTSTAMP:20260422T094929
CREATED:20220831T162622Z
LAST-MODIFIED:20221010T192506Z
UID:10001342-1786870800-1786874400@greenislemn.gov
SUMMARY:Lutheran Church Service
DESCRIPTION:St. Paul’s is a rural small-town church faithfully proclaiming the good news of Jesus Christ in Word and Sacrament\, prayer and fellowship\, education and outreach. \nDivine Service\n\nSunday mornings at 9:00 AM
URL:https://greenislemn.gov/event/lutheran-church-service/2026-08-16/
LOCATION:St. Paul’s Lutheran Church\, 240 Cleveland Ave.\, Green Isle\, MN\, 55338\, United States
CATEGORIES:Community Events
ATTACH;FMTTYPE=image/jpeg:https://greenislemn.gov/wp-content/uploads/2022/08/2016_4212-WEc920c77737.jpg
END:VEVENT
BEGIN:VEVENT
DTSTART;TZID=America/Chicago:20260823T090000
DTEND;TZID=America/Chicago:20260823T100000
DTSTAMP:20260422T094929
CREATED:20220831T162622Z
LAST-MODIFIED:20221010T192506Z
UID:10001343-1787475600-1787479200@greenislemn.gov
SUMMARY:Lutheran Church Service
DESCRIPTION:St. Paul’s is a rural small-town church faithfully proclaiming the good news of Jesus Christ in Word and Sacrament\, prayer and fellowship\, education and outreach. \nDivine Service\n\nSunday mornings at 9:00 AM
URL:https://greenislemn.gov/event/lutheran-church-service/2026-08-23/
LOCATION:St. Paul’s Lutheran Church\, 240 Cleveland Ave.\, Green Isle\, MN\, 55338\, United States
CATEGORIES:Community Events
ATTACH;FMTTYPE=image/jpeg:https://greenislemn.gov/wp-content/uploads/2022/08/2016_4212-WEc920c77737.jpg
END:VEVENT
BEGIN:VEVENT
DTSTART;TZID=America/Chicago:20260830T090000
DTEND;TZID=America/Chicago:20260830T100000
DTSTAMP:20260422T094929
CREATED:20220831T162622Z
LAST-MODIFIED:20221010T192506Z
UID:10001344-1788080400-1788084000@greenislemn.gov
SUMMARY:Lutheran Church Service
DESCRIPTION:St. Paul’s is a rural small-town church faithfully proclaiming the good news of Jesus Christ in Word and Sacrament\, prayer and fellowship\, education and outreach. \nDivine Service\n\nSunday mornings at 9:00 AM
URL:https://greenislemn.gov/event/lutheran-church-service/2026-08-30/
LOCATION:St. Paul’s Lutheran Church\, 240 Cleveland Ave.\, Green Isle\, MN\, 55338\, United States
CATEGORIES:Community Events
ATTACH;FMTTYPE=image/jpeg:https://greenislemn.gov/wp-content/uploads/2022/08/2016_4212-WEc920c77737.jpg
END:VEVENT
BEGIN:VEVENT
DTSTART;TZID=America/Chicago:20260906T090000
DTEND;TZID=America/Chicago:20260906T100000
DTSTAMP:20260422T094929
CREATED:20220831T162622Z
LAST-MODIFIED:20221010T192506Z
UID:10001345-1788685200-1788688800@greenislemn.gov
SUMMARY:Lutheran Church Service
DESCRIPTION:St. Paul’s is a rural small-town church faithfully proclaiming the good news of Jesus Christ in Word and Sacrament\, prayer and fellowship\, education and outreach. \nDivine Service\n\nSunday mornings at 9:00 AM
URL:https://greenislemn.gov/event/lutheran-church-service/2026-09-06/
LOCATION:St. Paul’s Lutheran Church\, 240 Cleveland Ave.\, Green Isle\, MN\, 55338\, United States
CATEGORIES:Community Events
ATTACH;FMTTYPE=image/jpeg:https://greenislemn.gov/wp-content/uploads/2022/08/2016_4212-WEc920c77737.jpg
END:VEVENT
BEGIN:VEVENT
DTSTART;TZID=America/Chicago:20260913T090000
DTEND;TZID=America/Chicago:20260913T100000
DTSTAMP:20260422T094929
CREATED:20220831T162622Z
LAST-MODIFIED:20221010T192506Z
UID:10001346-1789290000-1789293600@greenislemn.gov
SUMMARY:Lutheran Church Service
DESCRIPTION:St. Paul’s is a rural small-town church faithfully proclaiming the good news of Jesus Christ in Word and Sacrament\, prayer and fellowship\, education and outreach. \nDivine Service\n\nSunday mornings at 9:00 AM
URL:https://greenislemn.gov/event/lutheran-church-service/2026-09-13/
LOCATION:St. Paul’s Lutheran Church\, 240 Cleveland Ave.\, Green Isle\, MN\, 55338\, United States
CATEGORIES:Community Events
ATTACH;FMTTYPE=image/jpeg:https://greenislemn.gov/wp-content/uploads/2022/08/2016_4212-WEc920c77737.jpg
END:VEVENT
BEGIN:VEVENT
DTSTART;TZID=America/Chicago:20260920T090000
DTEND;TZID=America/Chicago:20260920T100000
DTSTAMP:20260422T094929
CREATED:20220831T162622Z
LAST-MODIFIED:20221010T192506Z
UID:10001347-1789894800-1789898400@greenislemn.gov
SUMMARY:Lutheran Church Service
DESCRIPTION:St. Paul’s is a rural small-town church faithfully proclaiming the good news of Jesus Christ in Word and Sacrament\, prayer and fellowship\, education and outreach. \nDivine Service\n\nSunday mornings at 9:00 AM
URL:https://greenislemn.gov/event/lutheran-church-service/2026-09-20/
LOCATION:St. Paul’s Lutheran Church\, 240 Cleveland Ave.\, Green Isle\, MN\, 55338\, United States
CATEGORIES:Community Events
ATTACH;FMTTYPE=image/jpeg:https://greenislemn.gov/wp-content/uploads/2022/08/2016_4212-WEc920c77737.jpg
END:VEVENT
BEGIN:VEVENT
DTSTART;TZID=America/Chicago:20260927T090000
DTEND;TZID=America/Chicago:20260927T100000
DTSTAMP:20260422T094929
CREATED:20220831T162622Z
LAST-MODIFIED:20221010T192506Z
UID:10001348-1790499600-1790503200@greenislemn.gov
SUMMARY:Lutheran Church Service
DESCRIPTION:St. Paul’s is a rural small-town church faithfully proclaiming the good news of Jesus Christ in Word and Sacrament\, prayer and fellowship\, education and outreach. \nDivine Service\n\nSunday mornings at 9:00 AM
URL:https://greenislemn.gov/event/lutheran-church-service/2026-09-27/
LOCATION:St. Paul’s Lutheran Church\, 240 Cleveland Ave.\, Green Isle\, MN\, 55338\, United States
CATEGORIES:Community Events
ATTACH;FMTTYPE=image/jpeg:https://greenislemn.gov/wp-content/uploads/2022/08/2016_4212-WEc920c77737.jpg
END:VEVENT
BEGIN:VEVENT
DTSTART;TZID=America/Chicago:20261004T090000
DTEND;TZID=America/Chicago:20261004T100000
DTSTAMP:20260422T094929
CREATED:20220831T162622Z
LAST-MODIFIED:20221010T192506Z
UID:10001349-1791104400-1791108000@greenislemn.gov
SUMMARY:Lutheran Church Service
DESCRIPTION:St. Paul’s is a rural small-town church faithfully proclaiming the good news of Jesus Christ in Word and Sacrament\, prayer and fellowship\, education and outreach. \nDivine Service\n\nSunday mornings at 9:00 AM
URL:https://greenislemn.gov/event/lutheran-church-service/2026-10-04/
LOCATION:St. Paul’s Lutheran Church\, 240 Cleveland Ave.\, Green Isle\, MN\, 55338\, United States
CATEGORIES:Community Events
ATTACH;FMTTYPE=image/jpeg:https://greenislemn.gov/wp-content/uploads/2022/08/2016_4212-WEc920c77737.jpg
END:VEVENT
BEGIN:VEVENT
DTSTART;TZID=America/Chicago:20261011T090000
DTEND;TZID=America/Chicago:20261011T100000
DTSTAMP:20260422T094929
CREATED:20220831T162622Z
LAST-MODIFIED:20221010T192506Z
UID:10001350-1791709200-1791712800@greenislemn.gov
SUMMARY:Lutheran Church Service
DESCRIPTION:St. Paul’s is a rural small-town church faithfully proclaiming the good news of Jesus Christ in Word and Sacrament\, prayer and fellowship\, education and outreach. \nDivine Service\n\nSunday mornings at 9:00 AM
URL:https://greenislemn.gov/event/lutheran-church-service/2026-10-11/
LOCATION:St. Paul’s Lutheran Church\, 240 Cleveland Ave.\, Green Isle\, MN\, 55338\, United States
CATEGORIES:Community Events
ATTACH;FMTTYPE=image/jpeg:https://greenislemn.gov/wp-content/uploads/2022/08/2016_4212-WEc920c77737.jpg
END:VEVENT
BEGIN:VEVENT
DTSTART;TZID=America/Chicago:20261018T090000
DTEND;TZID=America/Chicago:20261018T100000
DTSTAMP:20260422T094929
CREATED:20220831T162622Z
LAST-MODIFIED:20221010T192506Z
UID:10001351-1792314000-1792317600@greenislemn.gov
SUMMARY:Lutheran Church Service
DESCRIPTION:St. Paul’s is a rural small-town church faithfully proclaiming the good news of Jesus Christ in Word and Sacrament\, prayer and fellowship\, education and outreach. \nDivine Service\n\nSunday mornings at 9:00 AM
URL:https://greenislemn.gov/event/lutheran-church-service/2026-10-18/
LOCATION:St. Paul’s Lutheran Church\, 240 Cleveland Ave.\, Green Isle\, MN\, 55338\, United States
CATEGORIES:Community Events
ATTACH;FMTTYPE=image/jpeg:https://greenislemn.gov/wp-content/uploads/2022/08/2016_4212-WEc920c77737.jpg
END:VEVENT
BEGIN:VEVENT
DTSTART;TZID=America/Chicago:20261025T090000
DTEND;TZID=America/Chicago:20261025T100000
DTSTAMP:20260422T094929
CREATED:20220831T162622Z
LAST-MODIFIED:20221010T192506Z
UID:10001352-1792918800-1792922400@greenislemn.gov
SUMMARY:Lutheran Church Service
DESCRIPTION:St. Paul’s is a rural small-town church faithfully proclaiming the good news of Jesus Christ in Word and Sacrament\, prayer and fellowship\, education and outreach. \nDivine Service\n\nSunday mornings at 9:00 AM
URL:https://greenislemn.gov/event/lutheran-church-service/2026-10-25/
LOCATION:St. Paul’s Lutheran Church\, 240 Cleveland Ave.\, Green Isle\, MN\, 55338\, United States
CATEGORIES:Community Events
ATTACH;FMTTYPE=image/jpeg:https://greenislemn.gov/wp-content/uploads/2022/08/2016_4212-WEc920c77737.jpg
END:VEVENT
BEGIN:VEVENT
DTSTART;TZID=America/Chicago:20261101T090000
DTEND;TZID=America/Chicago:20261101T100000
DTSTAMP:20260422T094929
CREATED:20220831T162622Z
LAST-MODIFIED:20221010T192506Z
UID:10001353-1793523600-1793527200@greenislemn.gov
SUMMARY:Lutheran Church Service
DESCRIPTION:St. Paul’s is a rural small-town church faithfully proclaiming the good news of Jesus Christ in Word and Sacrament\, prayer and fellowship\, education and outreach. \nDivine Service\n\nSunday mornings at 9:00 AM
URL:https://greenislemn.gov/event/lutheran-church-service/2026-11-01/
LOCATION:St. Paul’s Lutheran Church\, 240 Cleveland Ave.\, Green Isle\, MN\, 55338\, United States
CATEGORIES:Community Events
ATTACH;FMTTYPE=image/jpeg:https://greenislemn.gov/wp-content/uploads/2022/08/2016_4212-WEc920c77737.jpg
END:VEVENT
BEGIN:VEVENT
DTSTART;TZID=America/Chicago:20261108T090000
DTEND;TZID=America/Chicago:20261108T100000
DTSTAMP:20260422T094929
CREATED:20220831T162622Z
LAST-MODIFIED:20221010T192506Z
UID:10001354-1794128400-1794132000@greenislemn.gov
SUMMARY:Lutheran Church Service
DESCRIPTION:St. Paul’s is a rural small-town church faithfully proclaiming the good news of Jesus Christ in Word and Sacrament\, prayer and fellowship\, education and outreach. \nDivine Service\n\nSunday mornings at 9:00 AM
URL:https://greenislemn.gov/event/lutheran-church-service/2026-11-08/
LOCATION:St. Paul’s Lutheran Church\, 240 Cleveland Ave.\, Green Isle\, MN\, 55338\, United States
CATEGORIES:Community Events
ATTACH;FMTTYPE=image/jpeg:https://greenislemn.gov/wp-content/uploads/2022/08/2016_4212-WEc920c77737.jpg
END:VEVENT
BEGIN:VEVENT
DTSTART;TZID=America/Chicago:20261115T090000
DTEND;TZID=America/Chicago:20261115T100000
DTSTAMP:20260422T094929
CREATED:20220831T162622Z
LAST-MODIFIED:20221010T192506Z
UID:10001355-1794733200-1794736800@greenislemn.gov
SUMMARY:Lutheran Church Service
DESCRIPTION:St. Paul’s is a rural small-town church faithfully proclaiming the good news of Jesus Christ in Word and Sacrament\, prayer and fellowship\, education and outreach. \nDivine Service\n\nSunday mornings at 9:00 AM
URL:https://greenislemn.gov/event/lutheran-church-service/2026-11-15/
LOCATION:St. Paul’s Lutheran Church\, 240 Cleveland Ave.\, Green Isle\, MN\, 55338\, United States
CATEGORIES:Community Events
ATTACH;FMTTYPE=image/jpeg:https://greenislemn.gov/wp-content/uploads/2022/08/2016_4212-WEc920c77737.jpg
END:VEVENT
END:VCALENDAR