BEGIN:VCALENDAR
VERSION:2.0
PRODID:-//City of Green Isle - ECPv6.15.20//NONSGML v1.0//EN
CALSCALE:GREGORIAN
METHOD:PUBLISH
X-WR-CALNAME:City of Green Isle
X-ORIGINAL-URL:https://greenislemn.gov
X-WR-CALDESC:Events for City of Green Isle
REFRESH-INTERVAL;VALUE=DURATION:PT1H
X-Robots-Tag:noindex
X-PUBLISHED-TTL:PT1H
BEGIN:VTIMEZONE
TZID:America/Chicago
BEGIN:DAYLIGHT
TZOFFSETFROM:-0600
TZOFFSETTO:-0500
TZNAME:CDT
DTSTART:20250309T080000
END:DAYLIGHT
BEGIN:STANDARD
TZOFFSETFROM:-0500
TZOFFSETTO:-0600
TZNAME:CST
DTSTART:20251102T070000
END:STANDARD
BEGIN:DAYLIGHT
TZOFFSETFROM:-0600
TZOFFSETTO:-0500
TZNAME:CDT
DTSTART:20260308T080000
END:DAYLIGHT
BEGIN:STANDARD
TZOFFSETFROM:-0500
TZOFFSETTO:-0600
TZNAME:CST
DTSTART:20261101T070000
END:STANDARD
BEGIN:DAYLIGHT
TZOFFSETFROM:-0600
TZOFFSETTO:-0500
TZNAME:CDT
DTSTART:20270314T080000
END:DAYLIGHT
BEGIN:STANDARD
TZOFFSETFROM:-0500
TZOFFSETTO:-0600
TZNAME:CST
DTSTART:20271107T070000
END:STANDARD
BEGIN:DAYLIGHT
TZOFFSETFROM:-0600
TZOFFSETTO:-0500
TZNAME:CDT
DTSTART:20280312T080000
END:DAYLIGHT
BEGIN:STANDARD
TZOFFSETFROM:-0500
TZOFFSETTO:-0600
TZNAME:CST
DTSTART:20281105T070000
END:STANDARD
END:VTIMEZONE
BEGIN:VEVENT
DTSTART;TZID=America/Chicago:20261101T080000
DTEND;TZID=America/Chicago:20261101T170000
DTSTAMP:20260422T151544
CREATED:20240101T120048Z
LAST-MODIFIED:20260410T145429Z
UID:10000998-1793520000-1793552400@greenislemn.gov
SUMMARY:Garbage Only (Green Week)
DESCRIPTION:Waste Management garbage only service\n\nGreen (garbage) Weekly\nGold (recycling) every other week
URL:https://greenislemn.gov/event/garbage-only-green-week/2026-11-01/
LOCATION:MN
CATEGORIES:City Events
ATTACH;FMTTYPE=image/jpeg:https://greenislemn.gov/wp-content/uploads/2022/08/AdobeStock_354231650-scaled.jpeg
END:VEVENT
BEGIN:VEVENT
DTSTART;TZID=America/Chicago:20261101T090000
DTEND;TZID=America/Chicago:20261101T100000
DTSTAMP:20260422T151544
CREATED:20220831T162622Z
LAST-MODIFIED:20221010T192506Z
UID:10001353-1793523600-1793527200@greenislemn.gov
SUMMARY:Lutheran Church Service
DESCRIPTION:St. Paul’s is a rural small-town church faithfully proclaiming the good news of Jesus Christ in Word and Sacrament\, prayer and fellowship\, education and outreach. \nDivine Service\n\nSunday mornings at 9:00 AM
URL:https://greenislemn.gov/event/lutheran-church-service/2026-11-01/
LOCATION:St. Paul’s Lutheran Church\, 240 Cleveland Ave.\, Green Isle\, MN\, 55338\, United States
CATEGORIES:Community Events
ATTACH;FMTTYPE=image/jpeg:https://greenislemn.gov/wp-content/uploads/2022/08/2016_4212-WEc920c77737.jpg
END:VEVENT
BEGIN:VEVENT
DTSTART;TZID=America/Chicago:20261102T190000
DTEND;TZID=America/Chicago:20261102T200000
DTSTAMP:20260422T151544
CREATED:20220831T165720Z
LAST-MODIFIED:20260410T145426Z
UID:10001758-1793646000-1793649600@greenislemn.gov
SUMMARY:EDA Meeting
DESCRIPTION:
URL:https://greenislemn.gov/event/eda-meeting/2026-11-02/
LOCATION:Green Isle City Hall\, 310 McGrann Street\, Green Isle\, MN\, 55338\, United States
CATEGORIES:City Events
ATTACH;FMTTYPE=image/jpeg:https://greenislemn.gov/wp-content/uploads/2016/05/GreenI31_Web.jpg
END:VEVENT
BEGIN:VEVENT
DTSTART;TZID=America/Chicago:20261102T200000
DTEND;TZID=America/Chicago:20261102T210000
DTSTAMP:20260422T151544
CREATED:20220831T163754Z
LAST-MODIFIED:20221010T192457Z
UID:10001452-1793649600-1793653200@greenislemn.gov
SUMMARY:Green Isle Lions Dinner & Program Meeting
DESCRIPTION:Monthly dinner and program meeting\n\nEvery first Monday of month\n\nLions membership offers a great opportunity to be a part of an active\, fun\, supportive and growing organization.\nMembership is open to any adult man or woman. Membership is by invitation and sponsorship. Contact a Lion Member to provide more information. We certainly welcome you to our group.
URL:https://greenislemn.gov/event/green-isle-lions-meeting/2026-11-02/
LOCATION:Green Isle Community Room\, 190 McGrann Street\, Green Isle\, MN\, 55338\, United States
CATEGORIES:Community Events
ATTACH;FMTTYPE=image/jpeg:https://greenislemn.gov/wp-content/uploads/2022/08/46519760_883740501829390_5696749024032325632_n.jpg
END:VEVENT
BEGIN:VEVENT
DTSTART;TZID=America/Chicago:20261102T200000
DTEND;TZID=America/Chicago:20261102T210000
DTSTAMP:20260422T151544
CREATED:20260409T133601Z
LAST-MODIFIED:20260409T133602Z
UID:10006272-1793649600-1793653200@greenislemn.gov
SUMMARY:Green Isle Lions Business Meeting
DESCRIPTION:Monthly business meeting\n\nEvery first Monday of month\n\nLions membership offers a great opportunity to be a part of an active\, fun\, supportive and growing organization.\nMembership is open to any adult man or woman. Membership is by invitation and sponsorship. Contact a Lion Member to provide more information. We certainly welcome you to our group.
URL:https://greenislemn.gov/event/green-isle-lions-business-meeting-2/2026-11-02/
LOCATION:Green Isle Community Room\, 190 McGrann Street\, Green Isle\, MN\, 55338\, United States
CATEGORIES:Community Events
ATTACH;FMTTYPE=image/jpeg:https://greenislemn.gov/wp-content/uploads/2022/08/46519760_883740501829390_5696749024032325632_n.jpg
END:VEVENT
BEGIN:VEVENT
DTSTART;TZID=America/Chicago:20261104T190000
DTEND;TZID=America/Chicago:20261104T200000
DTSTAMP:20260422T151544
CREATED:20250805T033746Z
LAST-MODIFIED:20260410T145347Z
UID:10003834-1793818800-1793822400@greenislemn.gov
SUMMARY:Planning & Zoning Meeting
DESCRIPTION:The objectives of the planning & zoning committee are: To guide future development of land\, services and facilities. To ensure a safer\, more pleasant and more economical environment for residential\, commercial\, industrial and public activities. \nThe Planning & Zoning Committee meets the 1st Wednesday of every month. \nPlanning & Zoning Administrator:  \nAmy Soeffker\nEmail: greenisleeda@greenislemn.gov
URL:https://greenislemn.gov/event/planning-zoning-meeting-3/2026-11-04/
LOCATION:Green Isle City Hall\, 310 McGrann Street\, Green Isle\, MN\, 55338\, United States
CATEGORIES:City Events
END:VEVENT
BEGIN:VEVENT
DTSTART;TZID=America/Chicago:20261108T080000
DTEND;TZID=America/Chicago:20261108T170000
DTSTAMP:20260422T151544
CREATED:20240107T120008Z
LAST-MODIFIED:20260410T145433Z
UID:10001131-1794124800-1794157200@greenislemn.gov
SUMMARY:Garbage & Recycling (Gold Week)
DESCRIPTION:Waste Management garbage only service\n\nGreen (garbage) weekly\nGold (recycling) every other week
URL:https://greenislemn.gov/event/garbage-recycling-gold-week/2026-11-08/
LOCATION:MN
CATEGORIES:City Events
ATTACH;FMTTYPE=image/jpeg:https://greenislemn.gov/wp-content/uploads/2022/08/AdobeStock_348147804-scaled.jpeg
END:VEVENT
BEGIN:VEVENT
DTSTART;TZID=America/Chicago:20261108T090000
DTEND;TZID=America/Chicago:20261108T100000
DTSTAMP:20260422T151544
CREATED:20220831T162622Z
LAST-MODIFIED:20221010T192506Z
UID:10001354-1794128400-1794132000@greenislemn.gov
SUMMARY:Lutheran Church Service
DESCRIPTION:St. Paul’s is a rural small-town church faithfully proclaiming the good news of Jesus Christ in Word and Sacrament\, prayer and fellowship\, education and outreach. \nDivine Service\n\nSunday mornings at 9:00 AM
URL:https://greenislemn.gov/event/lutheran-church-service/2026-11-08/
LOCATION:St. Paul’s Lutheran Church\, 240 Cleveland Ave.\, Green Isle\, MN\, 55338\, United States
CATEGORIES:Community Events
ATTACH;FMTTYPE=image/jpeg:https://greenislemn.gov/wp-content/uploads/2022/08/2016_4212-WEc920c77737.jpg
END:VEVENT
BEGIN:VEVENT
DTSTART;TZID=America/Chicago:20261110T190000
DTEND;TZID=America/Chicago:20261110T200000
DTSTAMP:20260422T151544
CREATED:20260410T145552Z
LAST-MODIFIED:20260410T145552Z
UID:10006525-1794337200-1794340800@greenislemn.gov
SUMMARY:City Council Meeting
DESCRIPTION:General Agenda\n\nCall the meeting to order\nPledge Of Allegiance\nPublic comment period\nApproval of the Agenda\nApproval of the Consent Agenda\nApproval of the minutes from the previous meeting\nApproval of the claims\nOther matters\nAdjournment
URL:https://greenislemn.gov/event/city-council-meeting/2026-11-10/
LOCATION:Green Isle City Hall\, 310 McGrann Street\, Green Isle\, MN\, 55338\, United States
CATEGORIES:City Events
END:VEVENT
BEGIN:VEVENT
DTSTART;TZID=America/Chicago:20261115T080000
DTEND;TZID=America/Chicago:20261115T170000
DTSTAMP:20260422T151544
CREATED:20240101T120048Z
LAST-MODIFIED:20260410T145429Z
UID:10000999-1794729600-1794762000@greenislemn.gov
SUMMARY:Garbage Only (Green Week)
DESCRIPTION:Waste Management garbage only service\n\nGreen (garbage) Weekly\nGold (recycling) every other week
URL:https://greenislemn.gov/event/garbage-only-green-week/2026-11-15/
LOCATION:MN
CATEGORIES:City Events
ATTACH;FMTTYPE=image/jpeg:https://greenislemn.gov/wp-content/uploads/2022/08/AdobeStock_354231650-scaled.jpeg
END:VEVENT
BEGIN:VEVENT
DTSTART;TZID=America/Chicago:20261115T090000
DTEND;TZID=America/Chicago:20261115T100000
DTSTAMP:20260422T151544
CREATED:20220831T162622Z
LAST-MODIFIED:20221010T192506Z
UID:10001355-1794733200-1794736800@greenislemn.gov
SUMMARY:Lutheran Church Service
DESCRIPTION:St. Paul’s is a rural small-town church faithfully proclaiming the good news of Jesus Christ in Word and Sacrament\, prayer and fellowship\, education and outreach. \nDivine Service\n\nSunday mornings at 9:00 AM
URL:https://greenislemn.gov/event/lutheran-church-service/2026-11-15/
LOCATION:St. Paul’s Lutheran Church\, 240 Cleveland Ave.\, Green Isle\, MN\, 55338\, United States
CATEGORIES:Community Events
ATTACH;FMTTYPE=image/jpeg:https://greenislemn.gov/wp-content/uploads/2022/08/2016_4212-WEc920c77737.jpg
END:VEVENT
BEGIN:VEVENT
DTSTART;TZID=America/Chicago:20261122T080000
DTEND;TZID=America/Chicago:20261122T170000
DTSTAMP:20260422T151544
CREATED:20240107T120008Z
LAST-MODIFIED:20260410T145433Z
UID:10001132-1795334400-1795366800@greenislemn.gov
SUMMARY:Garbage & Recycling (Gold Week)
DESCRIPTION:Waste Management garbage only service\n\nGreen (garbage) weekly\nGold (recycling) every other week
URL:https://greenislemn.gov/event/garbage-recycling-gold-week/2026-11-22/
LOCATION:MN
CATEGORIES:City Events
ATTACH;FMTTYPE=image/jpeg:https://greenislemn.gov/wp-content/uploads/2022/08/AdobeStock_348147804-scaled.jpeg
END:VEVENT
BEGIN:VEVENT
DTSTART;TZID=America/Chicago:20261122T090000
DTEND;TZID=America/Chicago:20261122T100000
DTSTAMP:20260422T151544
CREATED:20220831T162622Z
LAST-MODIFIED:20221010T192506Z
UID:10001356-1795338000-1795341600@greenislemn.gov
SUMMARY:Lutheran Church Service
DESCRIPTION:St. Paul’s is a rural small-town church faithfully proclaiming the good news of Jesus Christ in Word and Sacrament\, prayer and fellowship\, education and outreach. \nDivine Service\n\nSunday mornings at 9:00 AM
URL:https://greenislemn.gov/event/lutheran-church-service/2026-11-22/
LOCATION:St. Paul’s Lutheran Church\, 240 Cleveland Ave.\, Green Isle\, MN\, 55338\, United States
CATEGORIES:Community Events
ATTACH;FMTTYPE=image/jpeg:https://greenislemn.gov/wp-content/uploads/2022/08/2016_4212-WEc920c77737.jpg
END:VEVENT
BEGIN:VEVENT
DTSTART;TZID=America/Chicago:20261129T080000
DTEND;TZID=America/Chicago:20261129T170000
DTSTAMP:20260422T151544
CREATED:20240101T120048Z
LAST-MODIFIED:20260410T145429Z
UID:10001000-1795939200-1795971600@greenislemn.gov
SUMMARY:Garbage Only (Green Week)
DESCRIPTION:Waste Management garbage only service\n\nGreen (garbage) Weekly\nGold (recycling) every other week
URL:https://greenislemn.gov/event/garbage-only-green-week/2026-11-29/
LOCATION:MN
CATEGORIES:City Events
ATTACH;FMTTYPE=image/jpeg:https://greenislemn.gov/wp-content/uploads/2022/08/AdobeStock_354231650-scaled.jpeg
END:VEVENT
BEGIN:VEVENT
DTSTART;TZID=America/Chicago:20261129T090000
DTEND;TZID=America/Chicago:20261129T100000
DTSTAMP:20260422T151544
CREATED:20220831T162622Z
LAST-MODIFIED:20221010T192506Z
UID:10001357-1795942800-1795946400@greenislemn.gov
SUMMARY:Lutheran Church Service
DESCRIPTION:St. Paul’s is a rural small-town church faithfully proclaiming the good news of Jesus Christ in Word and Sacrament\, prayer and fellowship\, education and outreach. \nDivine Service\n\nSunday mornings at 9:00 AM
URL:https://greenislemn.gov/event/lutheran-church-service/2026-11-29/
LOCATION:St. Paul’s Lutheran Church\, 240 Cleveland Ave.\, Green Isle\, MN\, 55338\, United States
CATEGORIES:Community Events
ATTACH;FMTTYPE=image/jpeg:https://greenislemn.gov/wp-content/uploads/2022/08/2016_4212-WEc920c77737.jpg
END:VEVENT
BEGIN:VEVENT
DTSTART;TZID=America/Chicago:20261202T190000
DTEND;TZID=America/Chicago:20261202T200000
DTSTAMP:20260422T151544
CREATED:20250805T033746Z
LAST-MODIFIED:20260410T145347Z
UID:10003835-1796238000-1796241600@greenislemn.gov
SUMMARY:Planning & Zoning Meeting
DESCRIPTION:The objectives of the planning & zoning committee are: To guide future development of land\, services and facilities. To ensure a safer\, more pleasant and more economical environment for residential\, commercial\, industrial and public activities. \nThe Planning & Zoning Committee meets the 1st Wednesday of every month. \nPlanning & Zoning Administrator:  \nAmy Soeffker\nEmail: greenisleeda@greenislemn.gov
URL:https://greenislemn.gov/event/planning-zoning-meeting-3/2026-12-02/
LOCATION:Green Isle City Hall\, 310 McGrann Street\, Green Isle\, MN\, 55338\, United States
CATEGORIES:City Events
END:VEVENT
BEGIN:VEVENT
DTSTART;TZID=America/Chicago:20261206T080000
DTEND;TZID=America/Chicago:20261206T170000
DTSTAMP:20260422T151544
CREATED:20240107T120008Z
LAST-MODIFIED:20260410T145433Z
UID:10001133-1796544000-1796576400@greenislemn.gov
SUMMARY:Garbage & Recycling (Gold Week)
DESCRIPTION:Waste Management garbage only service\n\nGreen (garbage) weekly\nGold (recycling) every other week
URL:https://greenislemn.gov/event/garbage-recycling-gold-week/2026-12-06/
LOCATION:MN
CATEGORIES:City Events
ATTACH;FMTTYPE=image/jpeg:https://greenislemn.gov/wp-content/uploads/2022/08/AdobeStock_348147804-scaled.jpeg
END:VEVENT
BEGIN:VEVENT
DTSTART;TZID=America/Chicago:20261206T090000
DTEND;TZID=America/Chicago:20261206T100000
DTSTAMP:20260422T151544
CREATED:20220831T162622Z
LAST-MODIFIED:20221010T192506Z
UID:10001358-1796547600-1796551200@greenislemn.gov
SUMMARY:Lutheran Church Service
DESCRIPTION:St. Paul’s is a rural small-town church faithfully proclaiming the good news of Jesus Christ in Word and Sacrament\, prayer and fellowship\, education and outreach. \nDivine Service\n\nSunday mornings at 9:00 AM
URL:https://greenislemn.gov/event/lutheran-church-service/2026-12-06/
LOCATION:St. Paul’s Lutheran Church\, 240 Cleveland Ave.\, Green Isle\, MN\, 55338\, United States
CATEGORIES:Community Events
ATTACH;FMTTYPE=image/jpeg:https://greenislemn.gov/wp-content/uploads/2022/08/2016_4212-WEc920c77737.jpg
END:VEVENT
BEGIN:VEVENT
DTSTART;TZID=America/Chicago:20261207T190000
DTEND;TZID=America/Chicago:20261207T200000
DTSTAMP:20260422T151544
CREATED:20220831T165720Z
LAST-MODIFIED:20260410T145426Z
UID:10001759-1796670000-1796673600@greenislemn.gov
SUMMARY:EDA Meeting
DESCRIPTION:
URL:https://greenislemn.gov/event/eda-meeting/2026-12-07/
LOCATION:Green Isle City Hall\, 310 McGrann Street\, Green Isle\, MN\, 55338\, United States
CATEGORIES:City Events
ATTACH;FMTTYPE=image/jpeg:https://greenislemn.gov/wp-content/uploads/2016/05/GreenI31_Web.jpg
END:VEVENT
BEGIN:VEVENT
DTSTART;TZID=America/Chicago:20261207T200000
DTEND;TZID=America/Chicago:20261207T210000
DTSTAMP:20260422T151544
CREATED:20220831T163754Z
LAST-MODIFIED:20221010T192457Z
UID:10001453-1796673600-1796677200@greenislemn.gov
SUMMARY:Green Isle Lions Dinner & Program Meeting
DESCRIPTION:Monthly dinner and program meeting\n\nEvery first Monday of month\n\nLions membership offers a great opportunity to be a part of an active\, fun\, supportive and growing organization.\nMembership is open to any adult man or woman. Membership is by invitation and sponsorship. Contact a Lion Member to provide more information. We certainly welcome you to our group.
URL:https://greenislemn.gov/event/green-isle-lions-meeting/2026-12-07/
LOCATION:Green Isle Community Room\, 190 McGrann Street\, Green Isle\, MN\, 55338\, United States
CATEGORIES:Community Events
ATTACH;FMTTYPE=image/jpeg:https://greenislemn.gov/wp-content/uploads/2022/08/46519760_883740501829390_5696749024032325632_n.jpg
END:VEVENT
BEGIN:VEVENT
DTSTART;TZID=America/Chicago:20261207T200000
DTEND;TZID=America/Chicago:20261207T210000
DTSTAMP:20260422T151544
CREATED:20260409T133601Z
LAST-MODIFIED:20260409T133602Z
UID:10006273-1796673600-1796677200@greenislemn.gov
SUMMARY:Green Isle Lions Business Meeting
DESCRIPTION:Monthly business meeting\n\nEvery first Monday of month\n\nLions membership offers a great opportunity to be a part of an active\, fun\, supportive and growing organization.\nMembership is open to any adult man or woman. Membership is by invitation and sponsorship. Contact a Lion Member to provide more information. We certainly welcome you to our group.
URL:https://greenislemn.gov/event/green-isle-lions-business-meeting-2/2026-12-07/
LOCATION:Green Isle Community Room\, 190 McGrann Street\, Green Isle\, MN\, 55338\, United States
CATEGORIES:Community Events
ATTACH;FMTTYPE=image/jpeg:https://greenislemn.gov/wp-content/uploads/2022/08/46519760_883740501829390_5696749024032325632_n.jpg
END:VEVENT
BEGIN:VEVENT
DTSTART;TZID=America/Chicago:20261208T190000
DTEND;TZID=America/Chicago:20261208T200000
DTSTAMP:20260422T151544
CREATED:20260410T145552Z
LAST-MODIFIED:20260410T145552Z
UID:10006526-1796756400-1796760000@greenislemn.gov
SUMMARY:City Council Meeting
DESCRIPTION:General Agenda\n\nCall the meeting to order\nPledge Of Allegiance\nPublic comment period\nApproval of the Agenda\nApproval of the Consent Agenda\nApproval of the minutes from the previous meeting\nApproval of the claims\nOther matters\nAdjournment
URL:https://greenislemn.gov/event/city-council-meeting/2026-12-08/
LOCATION:Green Isle City Hall\, 310 McGrann Street\, Green Isle\, MN\, 55338\, United States
CATEGORIES:City Events
END:VEVENT
BEGIN:VEVENT
DTSTART;TZID=America/Chicago:20261213T080000
DTEND;TZID=America/Chicago:20261213T170000
DTSTAMP:20260422T151544
CREATED:20240101T120048Z
LAST-MODIFIED:20260410T145429Z
UID:10001001-1797148800-1797181200@greenislemn.gov
SUMMARY:Garbage Only (Green Week)
DESCRIPTION:Waste Management garbage only service\n\nGreen (garbage) Weekly\nGold (recycling) every other week
URL:https://greenislemn.gov/event/garbage-only-green-week/2026-12-13/
LOCATION:MN
CATEGORIES:City Events
ATTACH;FMTTYPE=image/jpeg:https://greenislemn.gov/wp-content/uploads/2022/08/AdobeStock_354231650-scaled.jpeg
END:VEVENT
BEGIN:VEVENT
DTSTART;TZID=America/Chicago:20261213T090000
DTEND;TZID=America/Chicago:20261213T100000
DTSTAMP:20260422T151544
CREATED:20220831T162622Z
LAST-MODIFIED:20221010T192506Z
UID:10001359-1797152400-1797156000@greenislemn.gov
SUMMARY:Lutheran Church Service
DESCRIPTION:St. Paul’s is a rural small-town church faithfully proclaiming the good news of Jesus Christ in Word and Sacrament\, prayer and fellowship\, education and outreach. \nDivine Service\n\nSunday mornings at 9:00 AM
URL:https://greenislemn.gov/event/lutheran-church-service/2026-12-13/
LOCATION:St. Paul’s Lutheran Church\, 240 Cleveland Ave.\, Green Isle\, MN\, 55338\, United States
CATEGORIES:Community Events
ATTACH;FMTTYPE=image/jpeg:https://greenislemn.gov/wp-content/uploads/2022/08/2016_4212-WEc920c77737.jpg
END:VEVENT
BEGIN:VEVENT
DTSTART;TZID=America/Chicago:20261220T080000
DTEND;TZID=America/Chicago:20261220T170000
DTSTAMP:20260422T151544
CREATED:20240107T120008Z
LAST-MODIFIED:20260410T145433Z
UID:10001134-1797753600-1797786000@greenislemn.gov
SUMMARY:Garbage & Recycling (Gold Week)
DESCRIPTION:Waste Management garbage only service\n\nGreen (garbage) weekly\nGold (recycling) every other week
URL:https://greenislemn.gov/event/garbage-recycling-gold-week/2026-12-20/
LOCATION:MN
CATEGORIES:City Events
ATTACH;FMTTYPE=image/jpeg:https://greenislemn.gov/wp-content/uploads/2022/08/AdobeStock_348147804-scaled.jpeg
END:VEVENT
BEGIN:VEVENT
DTSTART;TZID=America/Chicago:20261220T090000
DTEND;TZID=America/Chicago:20261220T100000
DTSTAMP:20260422T151544
CREATED:20220831T162622Z
LAST-MODIFIED:20221010T192506Z
UID:10001360-1797757200-1797760800@greenislemn.gov
SUMMARY:Lutheran Church Service
DESCRIPTION:St. Paul’s is a rural small-town church faithfully proclaiming the good news of Jesus Christ in Word and Sacrament\, prayer and fellowship\, education and outreach. \nDivine Service\n\nSunday mornings at 9:00 AM
URL:https://greenislemn.gov/event/lutheran-church-service/2026-12-20/
LOCATION:St. Paul’s Lutheran Church\, 240 Cleveland Ave.\, Green Isle\, MN\, 55338\, United States
CATEGORIES:Community Events
ATTACH;FMTTYPE=image/jpeg:https://greenislemn.gov/wp-content/uploads/2022/08/2016_4212-WEc920c77737.jpg
END:VEVENT
BEGIN:VEVENT
DTSTART;TZID=America/Chicago:20261227T080000
DTEND;TZID=America/Chicago:20261227T170000
DTSTAMP:20260422T151544
CREATED:20240101T120048Z
LAST-MODIFIED:20260410T145429Z
UID:10001002-1798358400-1798390800@greenislemn.gov
SUMMARY:Garbage Only (Green Week)
DESCRIPTION:Waste Management garbage only service\n\nGreen (garbage) Weekly\nGold (recycling) every other week
URL:https://greenislemn.gov/event/garbage-only-green-week/2026-12-27/
LOCATION:MN
CATEGORIES:City Events
ATTACH;FMTTYPE=image/jpeg:https://greenislemn.gov/wp-content/uploads/2022/08/AdobeStock_354231650-scaled.jpeg
END:VEVENT
BEGIN:VEVENT
DTSTART;TZID=America/Chicago:20261227T090000
DTEND;TZID=America/Chicago:20261227T100000
DTSTAMP:20260422T151544
CREATED:20220831T162622Z
LAST-MODIFIED:20221010T192506Z
UID:10001361-1798362000-1798365600@greenislemn.gov
SUMMARY:Lutheran Church Service
DESCRIPTION:St. Paul’s is a rural small-town church faithfully proclaiming the good news of Jesus Christ in Word and Sacrament\, prayer and fellowship\, education and outreach. \nDivine Service\n\nSunday mornings at 9:00 AM
URL:https://greenislemn.gov/event/lutheran-church-service/2026-12-27/
LOCATION:St. Paul’s Lutheran Church\, 240 Cleveland Ave.\, Green Isle\, MN\, 55338\, United States
CATEGORIES:Community Events
ATTACH;FMTTYPE=image/jpeg:https://greenislemn.gov/wp-content/uploads/2022/08/2016_4212-WEc920c77737.jpg
END:VEVENT
BEGIN:VEVENT
DTSTART;TZID=America/Chicago:20270103T080000
DTEND;TZID=America/Chicago:20270103T170000
DTSTAMP:20260422T151544
CREATED:20240107T120008Z
LAST-MODIFIED:20260410T145433Z
UID:10001135-1798963200-1798995600@greenislemn.gov
SUMMARY:Garbage & Recycling (Gold Week)
DESCRIPTION:Waste Management garbage only service\n\nGreen (garbage) weekly\nGold (recycling) every other week
URL:https://greenislemn.gov/event/garbage-recycling-gold-week/2027-01-03/
LOCATION:MN
CATEGORIES:City Events
ATTACH;FMTTYPE=image/jpeg:https://greenislemn.gov/wp-content/uploads/2022/08/AdobeStock_348147804-scaled.jpeg
END:VEVENT
BEGIN:VEVENT
DTSTART;TZID=America/Chicago:20270103T090000
DTEND;TZID=America/Chicago:20270103T100000
DTSTAMP:20260422T151544
CREATED:20220831T162622Z
LAST-MODIFIED:20221010T192506Z
UID:10001362-1798966800-1798970400@greenislemn.gov
SUMMARY:Lutheran Church Service
DESCRIPTION:St. Paul’s is a rural small-town church faithfully proclaiming the good news of Jesus Christ in Word and Sacrament\, prayer and fellowship\, education and outreach. \nDivine Service\n\nSunday mornings at 9:00 AM
URL:https://greenislemn.gov/event/lutheran-church-service/2027-01-03/
LOCATION:St. Paul’s Lutheran Church\, 240 Cleveland Ave.\, Green Isle\, MN\, 55338\, United States
CATEGORIES:Community Events
ATTACH;FMTTYPE=image/jpeg:https://greenislemn.gov/wp-content/uploads/2022/08/2016_4212-WEc920c77737.jpg
END:VEVENT
END:VCALENDAR